BEGIN:VCALENDAR
VERSION:2.0
PRODID:-//Town of Cape Vincent, NY - ECPv6.15.20//NONSGML v1.0//EN
CALSCALE:GREGORIAN
METHOD:PUBLISH
X-WR-CALNAME:Town of Cape Vincent, NY
X-ORIGINAL-URL:https://townofcapevincent.gov
X-WR-CALDESC:Events for Town of Cape Vincent, NY
REFRESH-INTERVAL;VALUE=DURATION:PT1H
X-Robots-Tag:noindex
X-PUBLISHED-TTL:PT1H
BEGIN:VTIMEZONE
TZID:America/New_York
BEGIN:DAYLIGHT
TZOFFSETFROM:-0500
TZOFFSETTO:-0400
TZNAME:EDT
DTSTART:20230312T070000
END:DAYLIGHT
BEGIN:STANDARD
TZOFFSETFROM:-0400
TZOFFSETTO:-0500
TZNAME:EST
DTSTART:20231105T060000
END:STANDARD
BEGIN:DAYLIGHT
TZOFFSETFROM:-0500
TZOFFSETTO:-0400
TZNAME:EDT
DTSTART:20240310T070000
END:DAYLIGHT
BEGIN:STANDARD
TZOFFSETFROM:-0400
TZOFFSETTO:-0500
TZNAME:EST
DTSTART:20241103T060000
END:STANDARD
BEGIN:DAYLIGHT
TZOFFSETFROM:-0500
TZOFFSETTO:-0400
TZNAME:EDT
DTSTART:20250309T070000
END:DAYLIGHT
BEGIN:STANDARD
TZOFFSETFROM:-0400
TZOFFSETTO:-0500
TZNAME:EST
DTSTART:20251102T060000
END:STANDARD
END:VTIMEZONE
BEGIN:VTIMEZONE
TZID:UTC
BEGIN:STANDARD
TZOFFSETFROM:+0000
TZOFFSETTO:+0000
TZNAME:UTC
DTSTART:20230101T000000
END:STANDARD
END:VTIMEZONE
BEGIN:VEVENT
DTSTART;TZID=America/New_York:20240710T190000
DTEND;TZID=America/New_York:20240710T200000
DTSTAMP:20260420T035420
CREATED:20240626T125749Z
LAST-MODIFIED:20240626T125749Z
UID:1056-1720638000-1720641600@townofcapevincent.gov
SUMMARY:Planning Board Meeting
DESCRIPTION:
URL:https://townofcapevincent.gov/event/planning-board-meeting-16/
END:VEVENT
BEGIN:VEVENT
DTSTART;TZID=America/New_York:20240704T080000
DTEND;TZID=America/New_York:20240705T170000
DTSTAMP:20260420T035420
CREATED:20240626T122832Z
LAST-MODIFIED:20240626T122832Z
UID:1047-1720080000-1720198800@townofcapevincent.gov
SUMMARY:Town Office Building Closed
DESCRIPTION:
URL:https://townofcapevincent.gov/event/town-office-building-closed/
END:VEVENT
BEGIN:VEVENT
DTSTART;TZID=America/New_York:20240701T180000
DTEND;TZID=America/New_York:20240701T190000
DTSTAMP:20260420T035420
CREATED:20240626T125709Z
LAST-MODIFIED:20240626T125709Z
UID:1054-1719856800-1719860400@townofcapevincent.gov
SUMMARY:Zoning Board Meeting
DESCRIPTION:
URL:https://townofcapevincent.gov/event/zoning-board-meeting-14/
END:VEVENT
BEGIN:VEVENT
DTSTART;TZID=America/New_York:20240620T183000
DTEND;TZID=America/New_York:20240620T193000
DTSTAMP:20260420T035420
CREATED:20240530T112201Z
LAST-MODIFIED:20240530T112201Z
UID:1038-1718908200-1718911800@townofcapevincent.gov
SUMMARY:Town Board Meeting
DESCRIPTION:
URL:https://townofcapevincent.gov/event/town-board-meeting-13/
END:VEVENT
BEGIN:VEVENT
DTSTART;TZID=America/New_York:20240619T080000
DTEND;TZID=America/New_York:20240619T170000
DTSTAMP:20260420T035420
CREATED:20240530T112309Z
LAST-MODIFIED:20240530T112309Z
UID:1040-1718784000-1718816400@townofcapevincent.gov
SUMMARY:Town Offices Closed
DESCRIPTION:
URL:https://townofcapevincent.gov/event/town-offices-closed-3/
END:VEVENT
BEGIN:VEVENT
DTSTART;TZID=America/New_York:20240612T190000
DTEND;TZID=America/New_York:20240612T200000
DTSTAMP:20260420T035420
CREATED:20240530T112627Z
LAST-MODIFIED:20240530T112627Z
UID:1042-1718218800-1718222400@townofcapevincent.gov
SUMMARY:Planning Board Meeting
DESCRIPTION:
URL:https://townofcapevincent.gov/event/planning-board-meeting-14/
END:VEVENT
BEGIN:VEVENT
DTSTART;TZID=America/New_York:20240603T180000
DTEND;TZID=America/New_York:20240603T190000
DTSTAMP:20260420T035420
CREATED:20240530T111738Z
LAST-MODIFIED:20240530T112044Z
UID:1034-1717437600-1717441200@townofcapevincent.gov
SUMMARY:Zoning Board Meeting
DESCRIPTION:
URL:https://townofcapevincent.gov/event/zoning-board-meeting-12/
END:VEVENT
BEGIN:VEVENT
DTSTART;TZID=UTC:20240527T080000
DTEND;TZID=UTC:20240527T170000
DTSTAMP:20260420T035420
CREATED:20240325T223957Z
LAST-MODIFIED:20240325T223957Z
UID:966-1716796800-1716829200@townofcapevincent.gov
SUMMARY:Town Offices Closed - Memorial Day
DESCRIPTION:
URL:https://townofcapevincent.gov/event/town-offices-closed-memorial-day/
END:VEVENT
BEGIN:VEVENT
DTSTART;TZID=UTC:20240516T183000
DTEND;TZID=UTC:20240516T193000
DTSTAMP:20260420T035420
CREATED:20240325T223918Z
LAST-MODIFIED:20240325T223918Z
UID:964-1715884200-1715887800@townofcapevincent.gov
SUMMARY:Town Board Meeting
DESCRIPTION:
URL:https://townofcapevincent.gov/event/town-board-meeting-12/
LOCATION:Rec Park
END:VEVENT
BEGIN:VEVENT
DTSTART;TZID=UTC:20240508T190000
DTEND;TZID=UTC:20240508T200000
DTSTAMP:20260420T035420
CREATED:20240325T223854Z
LAST-MODIFIED:20240325T223854Z
UID:962-1715194800-1715198400@townofcapevincent.gov
SUMMARY:Planning Board Meeting
DESCRIPTION:
URL:https://townofcapevincent.gov/event/planning-board-meeting-12/
LOCATION:Rec Park
END:VEVENT
BEGIN:VEVENT
DTSTART;TZID=UTC:20240506T180000
DTEND;TZID=UTC:20240506T190000
DTSTAMP:20260420T035420
CREATED:20240325T223821Z
LAST-MODIFIED:20240325T223821Z
UID:960-1715018400-1715022000@townofcapevincent.gov
SUMMARY:Zoning Board Meeting
DESCRIPTION:
URL:https://townofcapevincent.gov/event/zoning-board-meeting-11/
LOCATION:Rec Park
END:VEVENT
BEGIN:VEVENT
DTSTART;TZID=UTC:20240418T183000
DTEND;TZID=UTC:20240418T190000
DTSTAMP:20260420T035420
CREATED:20240311T211900Z
LAST-MODIFIED:20240311T211900Z
UID:909-1713465000-1713466800@townofcapevincent.gov
SUMMARY:Town Board Meeting
DESCRIPTION:
URL:https://townofcapevincent.gov/event/town-board-meeting-11/
LOCATION:Rec Park
END:VEVENT
BEGIN:VEVENT
DTSTART;TZID=UTC:20240413T120000
DTEND;TZID=UTC:20240413T180000
DTSTAMP:20260420T035420
CREATED:20240325T202227Z
LAST-MODIFIED:20240325T202227Z
UID:955-1713009600-1713031200@townofcapevincent.gov
SUMMARY:Referendum Vote
DESCRIPTION:
URL:https://townofcapevincent.gov/event/referendum-vote/
LOCATION:Rec Park
END:VEVENT
BEGIN:VEVENT
DTSTART;TZID=UTC:20240411T183000
DTEND;TZID=UTC:20240411T193000
DTSTAMP:20260420T035420
CREATED:20240405T193244Z
LAST-MODIFIED:20240405T193244Z
UID:973-1712860200-1712863800@townofcapevincent.gov
SUMMARY:Joint Board Meeting - Town\, Village\, CVLDC
DESCRIPTION:
URL:https://townofcapevincent.gov/event/joint-board-meeting-town-village-cvldc/
LOCATION:Rec Park
END:VEVENT
BEGIN:VEVENT
DTSTART;TZID=UTC:20240410T190000
DTEND;TZID=UTC:20240410T200000
DTSTAMP:20260420T035420
CREATED:20240311T211742Z
LAST-MODIFIED:20240311T211742Z
UID:907-1712775600-1712779200@townofcapevincent.gov
SUMMARY:Planning Board Meeting
DESCRIPTION:
URL:https://townofcapevincent.gov/event/planning-board-meeting-11/
LOCATION:Rec Park
END:VEVENT
BEGIN:VEVENT
DTSTART;TZID=UTC:20240408T080000
DTEND;TZID=UTC:20240408T170000
DTSTAMP:20260420T035420
CREATED:20240321T211243Z
LAST-MODIFIED:20240321T211243Z
UID:942-1712563200-1712595600@townofcapevincent.gov
SUMMARY:Town Offices Closed
DESCRIPTION:
URL:https://townofcapevincent.gov/event/town-offices-closed-2/
END:VEVENT
BEGIN:VEVENT
DTSTART;TZID=UTC:20240401T180000
DTEND;TZID=UTC:20240401T183000
DTSTAMP:20260420T035420
CREATED:20240311T211630Z
LAST-MODIFIED:20240311T211630Z
UID:905-1711994400-1711996200@townofcapevincent.gov
SUMMARY:Zoning Board Meeting
DESCRIPTION:
URL:https://townofcapevincent.gov/event/zoning-board-meeting-10/
LOCATION:Rec Park
END:VEVENT
BEGIN:VEVENT
DTSTART;TZID=UTC:20240329T080000
DTEND;TZID=UTC:20240329T170000
DTSTAMP:20260420T035420
CREATED:20240325T223526Z
LAST-MODIFIED:20240325T223526Z
UID:958-1711699200-1711731600@townofcapevincent.gov
SUMMARY:Town Offices Closed - Good Friday
DESCRIPTION:
URL:https://townofcapevincent.gov/event/town-offices-closed-good-friday/
END:VEVENT
BEGIN:VEVENT
DTSTART;TZID=UTC:20240321T183000
DTEND;TZID=UTC:20240321T193000
DTSTAMP:20260420T035420
CREATED:20240301T192718Z
LAST-MODIFIED:20240301T192718Z
UID:878-1711045800-1711049400@townofcapevincent.gov
SUMMARY:Town Board Meeting
DESCRIPTION:
URL:https://townofcapevincent.gov/event/town-board-meeting-9/
LOCATION:Rec Park
END:VEVENT
BEGIN:VEVENT
DTSTART;TZID=UTC:20240313T190000
DTEND;TZID=UTC:20240313T200000
DTSTAMP:20260420T035420
CREATED:20240301T192608Z
LAST-MODIFIED:20240301T192608Z
UID:876-1710356400-1710360000@townofcapevincent.gov
SUMMARY:Planning Board Meeting
DESCRIPTION:
URL:https://townofcapevincent.gov/event/planning-board-meeting-9/
END:VEVENT
BEGIN:VEVENT
DTSTART;TZID=UTC:20240304T180000
DTEND;TZID=UTC:20240304T190000
DTSTAMP:20260420T035420
CREATED:20240301T192511Z
LAST-MODIFIED:20240301T192511Z
UID:874-1709575200-1709578800@townofcapevincent.gov
SUMMARY:Zoning Board Meeting
DESCRIPTION:
URL:https://townofcapevincent.gov/event/zoning-board-meeting-8/
LOCATION:Rec Park
END:VEVENT
BEGIN:VEVENT
DTSTART;TZID=UTC:20240219T080000
DTEND;TZID=UTC:20240219T170000
DTSTAMP:20260420T035420
CREATED:20240125T234923Z
LAST-MODIFIED:20240125T234942Z
UID:860-1708329600-1708362000@townofcapevincent.gov
SUMMARY:Presidents' Day - Town Offices Closed
DESCRIPTION:
URL:https://townofcapevincent.gov/event/presidents-day-town-offices-closed/
END:VEVENT
BEGIN:VEVENT
DTSTART;TZID=UTC:20240215T183000
DTEND;TZID=UTC:20240215T193000
DTSTAMP:20260420T035420
CREATED:20240125T234900Z
LAST-MODIFIED:20240125T234900Z
UID:858-1708021800-1708025400@townofcapevincent.gov
SUMMARY:Town Board Meeting
DESCRIPTION:
URL:https://townofcapevincent.gov/event/town-board-meeting-10/
LOCATION:Rec Park
END:VEVENT
BEGIN:VEVENT
DTSTART;TZID=UTC:20240214T190000
DTEND;TZID=UTC:20240214T200000
DTSTAMP:20260420T035420
CREATED:20240125T234814Z
LAST-MODIFIED:20240125T234814Z
UID:856-1707937200-1707940800@townofcapevincent.gov
SUMMARY:Planning Board Meeting
DESCRIPTION:
URL:https://townofcapevincent.gov/event/planning-board-meeting-10/
LOCATION:Rec Park
END:VEVENT
BEGIN:VEVENT
DTSTART;TZID=UTC:20240205T180000
DTEND;TZID=UTC:20240205T190000
DTSTAMP:20260420T035420
CREATED:20240125T234723Z
LAST-MODIFIED:20240125T234723Z
UID:854-1707156000-1707159600@townofcapevincent.gov
SUMMARY:Zoning Board Meeting
DESCRIPTION:
URL:https://townofcapevincent.gov/event/zoning-board-meeting-9/
LOCATION:Rec Park
END:VEVENT
BEGIN:VEVENT
DTSTART;TZID=UTC:20240118T183000
DTEND;TZID=UTC:20240118T190000
DTSTAMP:20260420T035420
CREATED:20240117T000353Z
LAST-MODIFIED:20240117T000353Z
UID:831-1705602600-1705604400@townofcapevincent.gov
SUMMARY:Q&A re: Club Street
DESCRIPTION:
URL:https://townofcapevincent.gov/event/qa-re-club-street/
LOCATION:Rec Park
END:VEVENT
BEGIN:VEVENT
DTSTART;TZID=UTC:20240118T183000
DTEND;TZID=UTC:20240118T190000
DTSTAMP:20260420T035420
CREATED:20231214T235647Z
LAST-MODIFIED:20240103T212048Z
UID:774-1705602600-1705604400@townofcapevincent.gov
SUMMARY:Town Board Meeting
DESCRIPTION:
URL:https://townofcapevincent.gov/event/town-board-meeting-8/
END:VEVENT
BEGIN:VEVENT
DTSTART;TZID=UTC:20240115T080000
DTEND;TZID=UTC:20240115T170000
DTSTAMP:20260420T035420
CREATED:20240103T233926Z
LAST-MODIFIED:20240103T233926Z
UID:814-1705305600-1705338000@townofcapevincent.gov
SUMMARY:Town Offices Closed - Martin Luther King Jr.
DESCRIPTION:
URL:https://townofcapevincent.gov/event/town-offices-closed-martin-luther-king-jr/
END:VEVENT
BEGIN:VEVENT
DTSTART;TZID=UTC:20240110T190000
DTEND;TZID=UTC:20240110T200000
DTSTAMP:20260420T035420
CREATED:20231219T211357Z
LAST-MODIFIED:20231219T211357Z
UID:793-1704913200-1704916800@townofcapevincent.gov
SUMMARY:Planning Board Meeting
DESCRIPTION:
URL:https://townofcapevincent.gov/event/planning-board-meeting-8/
LOCATION:Rec Park
END:VEVENT
BEGIN:VEVENT
DTSTART;TZID=UTC:20240108T180000
DTEND;TZID=UTC:20240108T190000
DTSTAMP:20260420T035420
CREATED:20231219T211226Z
LAST-MODIFIED:20231219T211226Z
UID:791-1704736800-1704740400@townofcapevincent.gov
SUMMARY:Zoning Board Meeting
DESCRIPTION:
URL:https://townofcapevincent.gov/event/zoning-board-meeting-7/
LOCATION:Rec Park
END:VEVENT
END:VCALENDAR