BEGIN:VCALENDAR
VERSION:2.0
PRODID:-//Town of Cape Vincent, NY - ECPv6.15.20//NONSGML v1.0//EN
CALSCALE:GREGORIAN
METHOD:PUBLISH
X-WR-CALNAME:Town of Cape Vincent, NY
X-ORIGINAL-URL:https://townofcapevincent.gov
X-WR-CALDESC:Events for Town of Cape Vincent, NY
REFRESH-INTERVAL;VALUE=DURATION:PT1H
X-Robots-Tag:noindex
X-PUBLISHED-TTL:PT1H
BEGIN:VTIMEZONE
TZID:America/New_York
BEGIN:DAYLIGHT
TZOFFSETFROM:-0500
TZOFFSETTO:-0400
TZNAME:EDT
DTSTART:20240310T070000
END:DAYLIGHT
BEGIN:STANDARD
TZOFFSETFROM:-0400
TZOFFSETTO:-0500
TZNAME:EST
DTSTART:20241103T060000
END:STANDARD
BEGIN:DAYLIGHT
TZOFFSETFROM:-0500
TZOFFSETTO:-0400
TZNAME:EDT
DTSTART:20250309T070000
END:DAYLIGHT
BEGIN:STANDARD
TZOFFSETFROM:-0400
TZOFFSETTO:-0500
TZNAME:EST
DTSTART:20251102T060000
END:STANDARD
BEGIN:DAYLIGHT
TZOFFSETFROM:-0500
TZOFFSETTO:-0400
TZNAME:EDT
DTSTART:20260308T070000
END:DAYLIGHT
BEGIN:STANDARD
TZOFFSETFROM:-0400
TZOFFSETTO:-0500
TZNAME:EST
DTSTART:20261101T060000
END:STANDARD
BEGIN:DAYLIGHT
TZOFFSETFROM:-0500
TZOFFSETTO:-0400
TZNAME:EDT
DTSTART:20270314T070000
END:DAYLIGHT
BEGIN:STANDARD
TZOFFSETFROM:-0400
TZOFFSETTO:-0500
TZNAME:EST
DTSTART:20271107T060000
END:STANDARD
END:VTIMEZONE
BEGIN:VEVENT
DTSTART;TZID=America/New_York:20260302T180000
DTEND;TZID=America/New_York:20260302T190000
DTSTAMP:20260419T183141
CREATED:20260223T163236Z
LAST-MODIFIED:20260223T163236Z
UID:1820-1772474400-1772478000@townofcapevincent.gov
SUMMARY:Zoning Board Meeting @ Rec Park
DESCRIPTION:
URL:https://townofcapevincent.gov/event/zoning-board-meeting-rec-park/
END:VEVENT
BEGIN:VEVENT
DTSTART;TZID=America/New_York:20260219T181500
DTEND;TZID=America/New_York:20260219T200000
DTSTAMP:20260419T183141
CREATED:20260212T153521Z
LAST-MODIFIED:20260212T153521Z
UID:1812-1771524900-1771531200@townofcapevincent.gov
SUMMARY:WD#7 Public Hearing
DESCRIPTION:
URL:https://townofcapevincent.gov/event/wd7-public-hearing/
END:VEVENT
BEGIN:VEVENT
DTSTART;TZID=America/New_York:20260219T180000
DTEND;TZID=America/New_York:20260219T190000
DTSTAMP:20260419T183141
CREATED:20260202T145229Z
LAST-MODIFIED:20260202T145229Z
UID:1800-1771524000-1771527600@townofcapevincent.gov
SUMMARY:Town Board Meeting
DESCRIPTION:
URL:https://townofcapevincent.gov/event/town-board-meeting-33/
END:VEVENT
BEGIN:VEVENT
DTSTART;VALUE=DATE:20260216
DTEND;VALUE=DATE:20260217
DTSTAMP:20260419T183141
CREATED:20260212T150416Z
LAST-MODIFIED:20260212T150416Z
UID:1809-1771200000-1771286399@townofcapevincent.gov
SUMMARY:Town Office Closed
DESCRIPTION:
URL:https://townofcapevincent.gov/event/town-office-closed-2/
END:VEVENT
BEGIN:VEVENT
DTSTART;TZID=America/New_York:20260211T190000
DTEND;TZID=America/New_York:20260211T200000
DTSTAMP:20260419T183141
CREATED:20260202T145150Z
LAST-MODIFIED:20260202T145150Z
UID:1798-1770836400-1770840000@townofcapevincent.gov
SUMMARY:Planning Board Meeting
DESCRIPTION:
URL:https://townofcapevincent.gov/event/planning-board-meeting-34/
END:VEVENT
BEGIN:VEVENT
DTSTART;TZID=America/New_York:20260205T180000
DTEND;TZID=America/New_York:20260205T190000
DTSTAMP:20260419T183141
CREATED:20260109T150530Z
LAST-MODIFIED:20260109T150530Z
UID:1743-1770314400-1770318000@townofcapevincent.gov
SUMMARY:Town Board Work Session @ Town Office
DESCRIPTION:
URL:https://townofcapevincent.gov/event/town-board-work-session-town-office/
END:VEVENT
BEGIN:VEVENT
DTSTART;TZID=America/New_York:20260203T180000
DTEND;TZID=America/New_York:20260203T190000
DTSTAMP:20260419T183141
CREATED:20260128T195231Z
LAST-MODIFIED:20260128T195231Z
UID:1788-1770141600-1770145200@townofcapevincent.gov
SUMMARY:Water District #7 Special Meeting @ Rec Park
DESCRIPTION:
URL:https://townofcapevincent.gov/event/water-district-7-special-meeting-rec-park/
END:VEVENT
BEGIN:VEVENT
DTSTART;TZID=America/New_York:20260202T180000
DTEND;TZID=America/New_York:20260202T190000
DTSTAMP:20260419T183141
CREATED:20260202T145105Z
LAST-MODIFIED:20260202T145105Z
UID:1796-1770055200-1770058800@townofcapevincent.gov
SUMMARY:Zoning Board Meeting
DESCRIPTION:
URL:https://townofcapevincent.gov/event/zoning-board-meeting-29/
END:VEVENT
BEGIN:VEVENT
DTSTART;VALUE=DATE:20260119
DTEND;VALUE=DATE:20260120
DTSTAMP:20260419T183141
CREATED:20260119T182518Z
LAST-MODIFIED:20260119T182518Z
UID:1752-1768780800-1768867199@townofcapevincent.gov
SUMMARY:Town Office Closed
DESCRIPTION:
URL:https://townofcapevincent.gov/event/town-office-closed/
END:VEVENT
BEGIN:VEVENT
DTSTART;TZID=America/New_York:20260115T180000
DTEND;TZID=America/New_York:20260115T190000
DTSTAMP:20260419T183141
CREATED:20260109T144701Z
LAST-MODIFIED:20260109T144701Z
UID:1737-1768500000-1768503600@townofcapevincent.gov
SUMMARY:Town Board Meeting @ Rec Park
DESCRIPTION:
URL:https://townofcapevincent.gov/event/town-board-meeting-rec-park/
END:VEVENT
BEGIN:VEVENT
DTSTART;TZID=America/New_York:20260114T190000
DTEND;TZID=America/New_York:20260114T200000
DTSTAMP:20260419T183141
CREATED:20260109T150323Z
LAST-MODIFIED:20260109T150323Z
UID:1741-1768417200-1768420800@townofcapevincent.gov
SUMMARY:Planning Board Mtg @ Rec Park
DESCRIPTION:
URL:https://townofcapevincent.gov/event/planning-board-mtg-rec-park/
END:VEVENT
BEGIN:VEVENT
DTSTART;TZID=America/New_York:20260105T180000
DTEND;TZID=America/New_York:20260105T190000
DTSTAMP:20260419T183141
CREATED:20260109T150116Z
LAST-MODIFIED:20260109T150116Z
UID:1739-1767636000-1767639600@townofcapevincent.gov
SUMMARY:Zoning Board of Appeals Mtg @ Rec Park
DESCRIPTION:
URL:https://townofcapevincent.gov/event/zoning-board-of-appeals-mtg-rec-park/
END:VEVENT
BEGIN:VEVENT
DTSTART;TZID=America/New_York:20260101T110000
DTEND;TZID=America/New_York:20260101T123000
DTSTAMP:20260419T183141
CREATED:20251222T160343Z
LAST-MODIFIED:20251222T160343Z
UID:1703-1767265200-1767270600@townofcapevincent.gov
SUMMARY:Organizational Meeting @ Town Office
DESCRIPTION:
URL:https://townofcapevincent.gov/event/organizational-meeting-town-office/
END:VEVENT
BEGIN:VEVENT
DTSTART;VALUE=DATE:20260101
DTEND;VALUE=DATE:20260102
DTSTAMP:20260419T183141
CREATED:20251124T163957Z
LAST-MODIFIED:20251124T163957Z
UID:1670-1767225600-1767311999@townofcapevincent.gov
SUMMARY:Office Closed
DESCRIPTION:
URL:https://townofcapevincent.gov/event/office-closed-7/
END:VEVENT
BEGIN:VEVENT
DTSTART;TZID=America/New_York:20251231T080000
DTEND;TZID=America/New_York:20251231T120000
DTSTAMP:20260419T183141
CREATED:20251124T163911Z
LAST-MODIFIED:20251124T163911Z
UID:1668-1767168000-1767182400@townofcapevincent.gov
SUMMARY:Office Closes at Noon
DESCRIPTION:
URL:https://townofcapevincent.gov/event/office-closes-at-noon-2/
END:VEVENT
BEGIN:VEVENT
DTSTART;VALUE=DATE:20251226
DTEND;VALUE=DATE:20251227
DTSTAMP:20260419T183141
CREATED:20251124T163132Z
LAST-MODIFIED:20251124T163132Z
UID:1660-1766707200-1766793599@townofcapevincent.gov
SUMMARY:Office Closed
DESCRIPTION:
URL:https://townofcapevincent.gov/event/office-closed-6/
END:VEVENT
BEGIN:VEVENT
DTSTART;VALUE=DATE:20251225
DTEND;VALUE=DATE:20251226
DTSTAMP:20260419T183141
CREATED:20251124T162307Z
LAST-MODIFIED:20251124T162307Z
UID:1652-1766620800-1766707199@townofcapevincent.gov
SUMMARY:Office Closed
DESCRIPTION:
URL:https://townofcapevincent.gov/event/office-closed-5/
END:VEVENT
BEGIN:VEVENT
DTSTART;VALUE=DATE:20251224
DTEND;VALUE=DATE:20251225
DTSTAMP:20260419T183141
CREATED:20251219T134924Z
LAST-MODIFIED:20251219T134924Z
UID:1699-1766534400-1766620799@townofcapevincent.gov
SUMMARY:Office Closed
DESCRIPTION:
URL:https://townofcapevincent.gov/event/office-closed-8/
END:VEVENT
BEGIN:VEVENT
DTSTART;TZID=America/New_York:20251218T183000
DTEND;TZID=America/New_York:20251218T193000
DTSTAMP:20260419T183141
CREATED:20251124T163639Z
LAST-MODIFIED:20251124T163639Z
UID:1666-1766082600-1766086200@townofcapevincent.gov
SUMMARY:Town Board Meeting
DESCRIPTION:
URL:https://townofcapevincent.gov/event/town-board-meeting-32/
END:VEVENT
BEGIN:VEVENT
DTSTART;TZID=America/New_York:20251210T190000
DTEND;TZID=America/New_York:20251210T200000
DTSTAMP:20260419T183141
CREATED:20251124T163531Z
LAST-MODIFIED:20251124T163531Z
UID:1664-1765393200-1765396800@townofcapevincent.gov
SUMMARY:Planning Board Meeting
DESCRIPTION:
URL:https://townofcapevincent.gov/event/planning-board-meeting-33/
END:VEVENT
BEGIN:VEVENT
DTSTART;TZID=America/New_York:20251201T183000
DTEND;TZID=America/New_York:20251201T193000
DTSTAMP:20260419T183141
CREATED:20251124T164647Z
LAST-MODIFIED:20251125T172008Z
UID:1672-1764613800-1764617400@townofcapevincent.gov
SUMMARY:NY Forward Grant for Club Street Waterfront Park - Facilitated by Edgewater Resources
DESCRIPTION:NY Forward Waterfront Park Stakeholder/Kickoff Meeting | Meeting-Join | Microsoft Teams \n  \nDial in by phone \n+1 248-462-6320\,\,172097317# United States\, Pontiac \nFind a local number \nPhone conference ID: 172 097 317# \nFor organizers: Meeting options | Reset dial-in PIN
URL:https://townofcapevincent.gov/event/ny-forward-grant-for-club-street-waterfront-park-facilitated-by-edgewater-resources/
LOCATION:Rec Park
END:VEVENT
BEGIN:VEVENT
DTSTART;TZID=America/New_York:20251201T180000
DTEND;TZID=America/New_York:20251201T190000
DTSTAMP:20260419T183141
CREATED:20251124T163415Z
LAST-MODIFIED:20251124T163415Z
UID:1662-1764612000-1764615600@townofcapevincent.gov
SUMMARY:Zoning Board Meeting
DESCRIPTION:
URL:https://townofcapevincent.gov/event/zoning-board-meeting-28/
END:VEVENT
BEGIN:VEVENT
DTSTART;TZID=America/New_York:20251127T080000
DTEND;TZID=America/New_York:20251128T170000
DTSTAMP:20260419T183141
CREATED:20251016T152651Z
LAST-MODIFIED:20251016T152651Z
UID:1613-1764230400-1764349200@townofcapevincent.gov
SUMMARY:Town Offices Closed - Thanksgiving
DESCRIPTION:
URL:https://townofcapevincent.gov/event/town-offices-closed-thanksgiving/
END:VEVENT
BEGIN:VEVENT
DTSTART;TZID=America/New_York:20251121T130000
DTEND;TZID=America/New_York:20251121T140000
DTSTAMP:20260419T183141
CREATED:20251118T190907Z
LAST-MODIFIED:20251118T190907Z
UID:1643-1763730000-1763733600@townofcapevincent.gov
SUMMARY:Cape Vincent Waterfront Improvements - Pre Bid Meeting
DESCRIPTION:Cape Vincent Waterfront Improvements – Pre-Bid Meeting | Meeting-Join | Microsoft Teams \nDial in by phone \n+1 248-462-6320\,\,254601561# United States\, Pontiac \nFind a local number \nPhone conference ID: 254 601 561# \nFor organizers: Meeting options | Reset dial-in PIN
URL:https://townofcapevincent.gov/event/cape-vincent-waterfront-improvements-pre-bid-meeting/
END:VEVENT
BEGIN:VEVENT
DTSTART;TZID=America/New_York:20251120T183000
DTEND;TZID=America/New_York:20251120T193000
DTSTAMP:20260419T183141
CREATED:20251016T152237Z
LAST-MODIFIED:20251016T152237Z
UID:1609-1763663400-1763667000@townofcapevincent.gov
SUMMARY:Town Board Meeting
DESCRIPTION:
URL:https://townofcapevincent.gov/event/town-board-meeting-31/
END:VEVENT
BEGIN:VEVENT
DTSTART;TZID=America/New_York:20251112T190000
DTEND;TZID=America/New_York:20251112T200000
DTSTAMP:20260419T183141
CREATED:20251016T152137Z
LAST-MODIFIED:20251016T152137Z
UID:1607-1762974000-1762977600@townofcapevincent.gov
SUMMARY:Planning Board Meeting
DESCRIPTION:
URL:https://townofcapevincent.gov/event/planning-board-meeting-32/
END:VEVENT
BEGIN:VEVENT
DTSTART;TZID=America/New_York:20251111T080000
DTEND;TZID=America/New_York:20251111T170000
DTSTAMP:20260419T183141
CREATED:20251016T152521Z
LAST-MODIFIED:20251016T152521Z
UID:1611-1762848000-1762880400@townofcapevincent.gov
SUMMARY:Town Offices Closed - Veterans Day
DESCRIPTION:
URL:https://townofcapevincent.gov/event/town-offices-closed-veterans-day/
END:VEVENT
BEGIN:VEVENT
DTSTART;TZID=America/New_York:20251103T180000
DTEND;TZID=America/New_York:20251103T190000
DTSTAMP:20260419T183141
CREATED:20251016T152031Z
LAST-MODIFIED:20251016T152031Z
UID:1605-1762192800-1762196400@townofcapevincent.gov
SUMMARY:Zoning Board Meeting
DESCRIPTION:
URL:https://townofcapevincent.gov/event/zoning-board-meeting-27/
END:VEVENT
BEGIN:VEVENT
DTSTART;TZID=America/New_York:20251016T183000
DTEND;TZID=America/New_York:20251016T193000
DTSTAMP:20260419T183141
CREATED:20250924T161919Z
LAST-MODIFIED:20250924T161919Z
UID:1582-1760639400-1760643000@townofcapevincent.gov
SUMMARY:Town Board Meeting
DESCRIPTION:
URL:https://townofcapevincent.gov/event/town-board-meeting-30/
END:VEVENT
BEGIN:VEVENT
DTSTART;TZID=America/New_York:20251015T190000
DTEND;TZID=America/New_York:20251015T200000
DTSTAMP:20260419T183141
CREATED:20250924T161808Z
LAST-MODIFIED:20250924T161808Z
UID:1580-1760554800-1760558400@townofcapevincent.gov
SUMMARY:Planning Board Meeting
DESCRIPTION:
URL:https://townofcapevincent.gov/event/planning-board-meeting-31/
END:VEVENT
END:VCALENDAR