BEGIN:VCALENDAR
VERSION:2.0
PRODID:-//Town of Cape Vincent, NY - ECPv6.15.20//NONSGML v1.0//EN
CALSCALE:GREGORIAN
METHOD:PUBLISH
X-WR-CALNAME:Town of Cape Vincent, NY
X-ORIGINAL-URL:https://townofcapevincent.gov
X-WR-CALDESC:Events for Town of Cape Vincent, NY
REFRESH-INTERVAL;VALUE=DURATION:PT1H
X-Robots-Tag:noindex
X-PUBLISHED-TTL:PT1H
BEGIN:VTIMEZONE
TZID:UTC
BEGIN:STANDARD
TZOFFSETFROM:+0000
TZOFFSETTO:+0000
TZNAME:UTC
DTSTART:20220101T000000
END:STANDARD
END:VTIMEZONE
BEGIN:VEVENT
DTSTART;TZID=UTC:20231123T080000
DTEND;TZID=UTC:20231123T170000
DTSTAMP:20260420T015733
CREATED:20231011T204958Z
LAST-MODIFIED:20231011T205037Z
UID:606-1700726400-1700758800@townofcapevincent.gov
SUMMARY:Thanksgiving - Town Offices Closed
DESCRIPTION:
URL:https://townofcapevincent.gov/event/thanksgiving-offices-closed/
END:VEVENT
BEGIN:VEVENT
DTSTART;TZID=UTC:20231116T080000
DTEND;TZID=UTC:20231116T170000
DTSTAMP:20260420T015733
CREATED:20231002T205601Z
LAST-MODIFIED:20231002T205601Z
UID:600-1700121600-1700154000@townofcapevincent.gov
SUMMARY:Town Board Meeting
DESCRIPTION:
URL:https://townofcapevincent.gov/event/town-board-meeting-6/
END:VEVENT
BEGIN:VEVENT
DTSTART;TZID=UTC:20231110T080000
DTEND;TZID=UTC:20231110T170000
DTSTAMP:20260420T015733
CREATED:20231002T205515Z
LAST-MODIFIED:20231002T205515Z
UID:598-1699603200-1699635600@townofcapevincent.gov
SUMMARY:Veteran's Day - Offices Closed
DESCRIPTION:
URL:https://townofcapevincent.gov/event/veterans-day-offices-closed/
END:VEVENT
BEGIN:VEVENT
DTSTART;TZID=UTC:20231108T190000
DTEND;TZID=UTC:20231108T200000
DTSTAMP:20260420T015733
CREATED:20231002T205355Z
LAST-MODIFIED:20231002T205355Z
UID:596-1699470000-1699473600@townofcapevincent.gov
SUMMARY:Planning Board Meeting
DESCRIPTION:
URL:https://townofcapevincent.gov/event/planning-board-meeting-6/
END:VEVENT
BEGIN:VEVENT
DTSTART;TZID=UTC:20231106T180000
DTEND;TZID=UTC:20231106T190000
DTSTAMP:20260420T015733
CREATED:20231002T205309Z
LAST-MODIFIED:20231002T205309Z
UID:594-1699293600-1699297200@townofcapevincent.gov
SUMMARY:Zoning Board Meeting
DESCRIPTION:
URL:https://townofcapevincent.gov/event/zoning-board-meeting-5/
END:VEVENT
BEGIN:VEVENT
DTSTART;TZID=UTC:20231019T183000
DTEND;TZID=UTC:20231019T193000
DTSTAMP:20260420T015733
CREATED:20230911T190929Z
LAST-MODIFIED:20230911T190929Z
UID:569-1697740200-1697743800@townofcapevincent.gov
SUMMARY:Town Board Meeting
DESCRIPTION:
URL:https://townofcapevincent.gov/event/town-board-meeting-5/
END:VEVENT
BEGIN:VEVENT
DTSTART;TZID=UTC:20231011T190000
DTEND;TZID=UTC:20231011T200000
DTSTAMP:20260420T015733
CREATED:20230911T190852Z
LAST-MODIFIED:20230911T190852Z
UID:567-1697050800-1697054400@townofcapevincent.gov
SUMMARY:Planning Board Meeting
DESCRIPTION:
URL:https://townofcapevincent.gov/event/planning-board-meeting-5/
END:VEVENT
BEGIN:VEVENT
DTSTART;TZID=UTC:20231009T080000
DTEND;TZID=UTC:20231009T170000
DTSTAMP:20260420T015733
CREATED:20230911T191002Z
LAST-MODIFIED:20230921T182042Z
UID:571-1696838400-1696870800@townofcapevincent.gov
SUMMARY:Columbus Day - Town Offices Closed
DESCRIPTION:
URL:https://townofcapevincent.gov/event/labor-day-town-offices-closed-2/
END:VEVENT
BEGIN:VEVENT
DTSTART;TZID=UTC:20231002T180000
DTEND;TZID=UTC:20231002T190000
DTSTAMP:20260420T015733
CREATED:20230911T190823Z
LAST-MODIFIED:20230911T190823Z
UID:565-1696269600-1696273200@townofcapevincent.gov
SUMMARY:Zoning Board Meeting
DESCRIPTION:
URL:https://townofcapevincent.gov/event/zoning-board-meeting-4/
END:VEVENT
BEGIN:VEVENT
DTSTART;TZID=UTC:20230921T183000
DTEND;TZID=UTC:20230921T193000
DTSTAMP:20260420T015733
CREATED:20230810T184636Z
LAST-MODIFIED:20230810T184636Z
UID:543-1695321000-1695324600@townofcapevincent.gov
SUMMARY:Town Board Meeting
DESCRIPTION:
URL:https://townofcapevincent.gov/event/town-board-meeting-4/
END:VEVENT
BEGIN:VEVENT
DTSTART;TZID=UTC:20230913T190000
DTEND;TZID=UTC:20230913T200000
DTSTAMP:20260420T015733
CREATED:20230810T184605Z
LAST-MODIFIED:20230810T184605Z
UID:541-1694631600-1694635200@townofcapevincent.gov
SUMMARY:Planning Board Meeting
DESCRIPTION:
URL:https://townofcapevincent.gov/event/planning-board-meeting-4/
END:VEVENT
BEGIN:VEVENT
DTSTART;TZID=UTC:20230904T080000
DTEND;TZID=UTC:20230904T170000
DTSTAMP:20260420T015733
CREATED:20230718T212406Z
LAST-MODIFIED:20230718T212406Z
UID:526-1693814400-1693846800@townofcapevincent.gov
SUMMARY:Labor Day - Town Offices Closed
DESCRIPTION:
URL:https://townofcapevincent.gov/event/labor-day-town-offices-closed/
END:VEVENT
BEGIN:VEVENT
DTSTART;TZID=UTC:20230828T180000
DTEND;TZID=UTC:20230828T190000
DTSTAMP:20260420T015733
CREATED:20230810T184518Z
LAST-MODIFIED:20230810T184518Z
UID:539-1693245600-1693249200@townofcapevincent.gov
SUMMARY:Zoning Board Meeting
DESCRIPTION:
URL:https://townofcapevincent.gov/event/zoning-board-meeting-3/
END:VEVENT
BEGIN:VEVENT
DTSTART;TZID=UTC:20230817T183000
DTEND;TZID=UTC:20230817T193000
DTSTAMP:20260420T015733
CREATED:20230718T212319Z
LAST-MODIFIED:20230718T212319Z
UID:524-1692297000-1692300600@townofcapevincent.gov
SUMMARY:Town Board Meeting
DESCRIPTION:
URL:https://townofcapevincent.gov/event/town-board-meeting-3/
LOCATION:Rec Park
END:VEVENT
BEGIN:VEVENT
DTSTART;TZID=UTC:20230809T190000
DTEND;TZID=UTC:20230809T200000
DTSTAMP:20260420T015733
CREATED:20230718T212246Z
LAST-MODIFIED:20230718T212246Z
UID:522-1691607600-1691611200@townofcapevincent.gov
SUMMARY:Planning Board Meeting
DESCRIPTION:
URL:https://townofcapevincent.gov/event/planning-board-meeting-3/
LOCATION:Rec Park
END:VEVENT
BEGIN:VEVENT
DTSTART;TZID=UTC:20230807T180000
DTEND;TZID=UTC:20230807T190000
DTSTAMP:20260420T015733
CREATED:20230718T212132Z
LAST-MODIFIED:20230718T212132Z
UID:520-1691431200-1691434800@townofcapevincent.gov
SUMMARY:Zoning Board Meeting
DESCRIPTION:
URL:https://townofcapevincent.gov/event/zoning-board-meeting-2/
LOCATION:Rec Park
END:VEVENT
BEGIN:VEVENT
DTSTART;TZID=UTC:20230801T180000
DTEND;TZID=UTC:20230801T200000
DTSTAMP:20260420T015733
CREATED:20230627T181305Z
LAST-MODIFIED:20230627T181305Z
UID:448-1690912800-1690920000@townofcapevincent.gov
SUMMARY:Free Rabies Clinic
DESCRIPTION:
URL:https://townofcapevincent.gov/event/free-rabies-clinic/
LOCATION:Town Highway Garage
END:VEVENT
BEGIN:VEVENT
DTSTART;TZID=UTC:20230720T183000
DTEND;TZID=UTC:20230720T193000
DTSTAMP:20260420T015733
CREATED:20230627T181846Z
LAST-MODIFIED:20230627T181846Z
UID:454-1689877800-1689881400@townofcapevincent.gov
SUMMARY:Town Board Meeting
DESCRIPTION:
URL:https://townofcapevincent.gov/event/town-board-meeting-2/
LOCATION:Rec Park
END:VEVENT
BEGIN:VEVENT
DTSTART;TZID=UTC:20230712T190000
DTEND;TZID=UTC:20230712T200000
DTSTAMP:20260420T015733
CREATED:20230627T181754Z
LAST-MODIFIED:20230627T181754Z
UID:451-1689188400-1689192000@townofcapevincent.gov
SUMMARY:Planning Board Meeting
DESCRIPTION:
URL:https://townofcapevincent.gov/event/planning-board-meeting-2/
LOCATION:Rec Park
END:VEVENT
BEGIN:VEVENT
DTSTART;TZID=UTC:20230704T080000
DTEND;TZID=UTC:20230704T170000
DTSTAMP:20260420T015733
CREATED:20230627T181918Z
LAST-MODIFIED:20230627T181918Z
UID:456-1688457600-1688490000@townofcapevincent.gov
SUMMARY:Town Offices Closed
DESCRIPTION:
URL:https://townofcapevincent.gov/event/town-offices-closed/
END:VEVENT
BEGIN:VEVENT
DTSTART;TZID=UTC:20230703T080000
DTEND;TZID=UTC:20230703T170000
DTSTAMP:20260420T015733
CREATED:20230627T204949Z
LAST-MODIFIED:20230627T204949Z
UID:482-1688371200-1688403600@townofcapevincent.gov
SUMMARY:Town Clerk Office Closed
DESCRIPTION:
URL:https://townofcapevincent.gov/event/town-clerk-office-closed/
END:VEVENT
BEGIN:VEVENT
DTSTART;TZID=UTC:20230529T170000
DTEND;TZID=UTC:20230529T183000
DTSTAMP:20260420T015733
CREATED:20230512T191012Z
LAST-MODIFIED:20230512T191012Z
UID:96-1685379600-1685385000@townofcapevincent.gov
SUMMARY:Memorial Day - Office Closed
DESCRIPTION:
URL:https://townofcapevincent.gov/event/memorial-day-office-closed/
END:VEVENT
BEGIN:VEVENT
DTSTART;TZID=UTC:20230518T183000
DTEND;TZID=UTC:20230518T200000
DTSTAMP:20260420T015733
CREATED:20230512T190921Z
LAST-MODIFIED:20230512T190921Z
UID:94-1684434600-1684440000@townofcapevincent.gov
SUMMARY:Town Board Meeting
DESCRIPTION:
URL:https://townofcapevincent.gov/event/town-board-meeting/
END:VEVENT
BEGIN:VEVENT
DTSTART;TZID=UTC:20230510T190000
DTEND;TZID=UTC:20230510T203000
DTSTAMP:20260420T015733
CREATED:20230512T190813Z
LAST-MODIFIED:20230512T190829Z
UID:85-1683745200-1683750600@townofcapevincent.gov
SUMMARY:Planning Board Meeting
DESCRIPTION:
URL:https://townofcapevincent.gov/event/planning-board-meeting/
END:VEVENT
BEGIN:VEVENT
DTSTART;TZID=UTC:20230501T180000
DTEND;TZID=UTC:20230501T193000
DTSTAMP:20260420T015733
CREATED:20230512T190721Z
LAST-MODIFIED:20230512T190721Z
UID:79-1682964000-1682969400@townofcapevincent.gov
SUMMARY:Zoning Board Meeting
DESCRIPTION:
URL:https://townofcapevincent.gov/event/zoning-board-meeting/
END:VEVENT
END:VCALENDAR